BEGIN:VCALENDAR
VERSION:2.0
PRODID:-//eventon.com NONSGML v1.0//EN
BEGIN:VEVENT
UID:69eb9d6c30324
DTSTAMP:20260424T114220
DTSTART:20231027T150000Z
DTEND:20231027T180000Z
LOCATION:Jane Guerin&#039;s Studio 269 W. Walnut Lane\,  Philadelphia\,  PA 19144
SUMMARY:Piano Workshop with Rebekah Waggoner and her Pre-Twinkle Toolbox
DESCRIPTION: SUZUKI Teacher Workshop with Rebekah Waggoner October 27\,  2023 LOCATION: Jane Guerin’s Studio\,  269 W. Walnut Lane\,  Philadelphia &nbsp; TEACHER SESSION: “Pre-Twinkle Toolbox” Featuring Rebekah Waggoner Date and Time: Friday\,  October 27\,  2023 – 10-1:00 PM Searching for ways to engage preschool beginners? Need new creative ideas to keep their[..]
END:VEVENT
END:VCALENDAR