BEGIN:VCALENDAR
VERSION:2.0
PRODID:-//eventon.com NONSGML v1.0//EN
BEGIN:VEVENT
UID:69eb84ecc506d
DTSTAMP:20260424T095748
DTSTART:20231022T180000Z
DTEND:20231023T045000Z
LOCATION:Immaculata University Malvern 1145 West King Road Immaculata\,  PA 19345
SUMMARY:Strings Play-In
DESCRIPTION: Click this\,  click here for registration via Eventbrite General Information: GPSA is a non-profit organization that aspires to improve the quality of life through the Suzuki approach of music education. Performers in this event will include violin\,  viola\,  cello\,  and string bass of various ages and musical levels. Students and[..]
END:VEVENT
END:VCALENDAR