BEGIN:VCALENDAR
VERSION:2.0
PRODID:-//eventon.com NONSGML v1.0//EN
BEGIN:VEVENT
UID:69e9ff38e747f
DTSTAMP:20260423T061504
DTSTART:20221104T050000Z
DTEND:20221110T045900Z
LOCATION:
SUMMARY:Piano Workshop
DESCRIPTION: Come join the Greater Philadelphia Suzuki Association's 2022 Piano Workshop! Workshop Date: November 4 - November 9 Registration Deadline for early bird: September 24 Registration Deadline to avoid late fee: October 1 Registration payment link: https://www.paypal.com/donate/?hosted_button_id=MWKGXT59PNPEJ Participants must fill out the registration form and email directly to the GPSA VP-[..]
END:VEVENT
END:VCALENDAR