BEGIN:VCALENDAR
VERSION:2.0
PRODID:-//eventon.com NONSGML v1.0//EN
BEGIN:VEVENT
UID:69e9ba6240324
DTSTAMP:20260423T012122
DTSTART:20231022T180000Z
DTEND:20231023T045000Z
LOCATION:Immaculata University Malvern 1145 West King Road Immaculata\,  PA 19345
SUMMARY:Fall Strings Play-In
DESCRIPTION: Click here. Click this. Visit this site for all the info and registration for Strings Play In 2023 General Information: GPSA is a non-profit organization that aspires to improve the quality of life through the Suzuki approach of music education. Performers in this event will include violin\,  viola\,  cello\,  and[..]
END:VEVENT
END:VCALENDAR