BEGIN:VCALENDAR
VERSION:2.0
PRODID:-//eventon.com NONSGML v1.0//EN
BEGIN:VEVENT
UID:69eb85a75a51f
DTSTAMP:20260424T100055
DTSTART:20240602T200000Z
DTEND:20240602T213000Z
LOCATION:TO BE ANNOUNCED 
SUMMARY:Annual Meeting 2024
DESCRIPTION: The Annual Meeting is for all Greater Philadelphia Suzuki Association members. The Annual Meeting usually meets in the Spring/Summer on a weekend. This wonderful event brings all current members together for general business meeting plus a special guest speaker presenting a special topic relevant to GPSA teachers. Details to come!
END:VEVENT
END:VCALENDAR