BEGIN:VCALENDAR
VERSION:2.0
PRODID:-//eventon.com NONSGML v1.0//EN
BEGIN:VEVENT
UID:69e6e67e603b9
DTSTAMP:20260420T215246
DTSTART:20250316T050000Z
DTEND:20250317T045900Z
LOCATION:Germantown Settlement School 6128 Germantown Ave\,  Philadelphia\,  PA 19144
SUMMARY:Graduation 2025
DESCRIPTION: Graduation 2024-2025 Eventbrite link. &nbsp; 2024-2025 Graduation Summary [embeddoc url="https://gpsasuzuki.org/wp-content/uploads/2024/11/2024-2025-Graduation-Summary.pdf"] &nbsp; &nbsp; 2024 Graduation Parent Letter [embeddoc url="https://gpsasuzuki.org/wp-content/uploads/2024/11/2024-Graduation-Parent-Letter.pdf"] &nbsp; &nbsp; Preparatory Level\,  Piano\,  2024-25 [embeddoc url="https://gpsasuzuki.org/wp-content/uploads/2024/11/Preparatory-Level-Piano-2024-25.pdf"] &nbsp; Advertise in the Graduation Program! 
END:VEVENT
END:VCALENDAR