BEGIN:VCALENDAR
VERSION:2.0
PRODID:-//eventon.com NONSGML v1.0//EN
BEGIN:VEVENT
UID:69eb85df52f82
DTSTAMP:20260424T100151
DTSTART:20251107T150000Z
DTEND:20251109T210000Z
LOCATION:Ashley Smith&#039;s Studio 1275 Club House Road Gladwyne\,  PA 19035
SUMMARY:Suzuki Fall Workshop
DESCRIPTION: [embeddoc url="https://gpsasuzuki.org/wp-content/uploads/2025/09/Suzuki-Fall-Workshop-2025.pdf"] &nbsp; Link to Eventbrite event registration.  Link to registration form for students.  &nbsp;
END:VEVENT
END:VCALENDAR