BEGIN:VCALENDAR
VERSION:2.0
PRODID:-//eventon.com NONSGML v1.0//EN
BEGIN:VEVENT
UID:69eb9421694d7
DTSTAMP:20260424T110241
DTSTART:20260315T060000Z
DTEND:20260315T220000Z
LOCATION:Germantown Settlement School 6128 Germantown Ave\,  Philadelphia\,  PA 19144
SUMMARY:Graduation 2026
DESCRIPTION: Graduation 2025-2026 Eventbrite link. &nbsp; &nbsp; Registration form link. &nbsp; &nbsp; 2025-2026 Graduation Summary  [embeddoc url="https://gpsasuzuki.org/wp-content/uploads/2025/12/2025-2026-Graduation-Summary-edit.pdf"] &nbsp; &nbsp; 2025 Graduation Parent Letter [embeddoc url="https://gpsasuzuki.org/wp-content/uploads/2025/12/2025-Graduation-Parent-Letter-edit.pdf"] &nbsp; &nbsp; GPSA Graduation - Piano Levels [embeddoc url="https://gpsasuzuki.org/wp-content/uploads/2025/12/GPSA-Graduation-Piano-Levels-edit.pdf"] &nbsp; Advertise in the Graduation Program! 
END:VEVENT
END:VCALENDAR